BEGIN:VCALENDAR
VERSION:2.0
PRODID:-//DP Pro Event Calendar//2.8.9//EN
BEGIN:VEVENT
UID:3e2c98eb-b258-4c5c-93b2-bf21578c9de7
DTSTART;TZID=Europe/Amsterdam:20260422T000000
DTEND;TZID=Europe/Amsterdam:20260422T113000
DTSTAMP:20260422T000000
SUMMARY:Hobbycafé
DESCRIPTION:Hobbycafé - Gezellig samen inspiratie opdoen. \r \n Zelf materiaal meenemen. Vrije inloop.\r \n Kosten: € 2\,50
LOCATION:Kulturhus Dinxperlo
URL:
ATTACH;FMTTYPE=image/jpeg:http://www.dplnieuws.nl/wp-content/uploads/2016/11/dd_hobby.jpg
END:VEVENT
END:VCALENDAR