BEGIN:VCALENDAR
VERSION:2.0
PRODID:-//DP Pro Event Calendar//2.8.9//EN
BEGIN:VEVENT
UID:53b154f6-dd3d-4215-9d8c-d95012087a62
DTSTART;TZID=Europe/Amsterdam:20260423T000000
DTEND;TZID=Europe/Amsterdam:20260423T160000
DTSTAMP:20260423T000000
SUMMARY:Welfare
DESCRIPTION:Handwerken onder begeleiding van het Rode Kruis.\r \n Aanmelden niet nodig.
LOCATION:Woonzorgcentrum Careaz Dr. Jenny
URL:
ATTACH;FMTTYPE=image/jpeg:http://www.dplnieuws.nl/wp-content/uploads/2017/01/c_welfare.jpg
END:VEVENT
END:VCALENDAR