BEGIN:VCALENDAR
VERSION:2.0
PRODID:-//DP Pro Event Calendar//2.8.9//EN
BEGIN:VEVENT
UID:30aac29e-bc05-46ac-985c-13331b5820a8
DTSTART;TZID=Europe/Amsterdam:20260427T000000
DTEND;TZID=Europe/Amsterdam:20260427T110000
DTSTAMP:20260427T000000
SUMMARY:Koffietafel
DESCRIPTION:Open inloop in de foyer - Kom gezellig binnen voor een kop koffie of thee!\r \n Voor jong en oud!
LOCATION:Kulturhus Dinxperlo
URL:
ATTACH;FMTTYPE=image/jpeg:http://www.dplnieuws.nl/wp-content/uploads/2015/06/ontbijt.jpg
END:VEVENT
END:VCALENDAR